BEGIN:VCALENDAR
VERSION:2.0
PRODID:-//CBIZ - ECPv6.15.20//NONSGML v1.0//EN
CALSCALE:GREGORIAN
METHOD:PUBLISH
X-WR-CALNAME:CBIZ
X-ORIGINAL-URL:https://www.cbiz.com
X-WR-CALDESC:Events for CBIZ
REFRESH-INTERVAL;VALUE=DURATION:PT1H
X-Robots-Tag:noindex
X-PUBLISHED-TTL:PT1H
BEGIN:VTIMEZONE
TZID:America/Phoenix
BEGIN:STANDARD
TZOFFSETFROM:-0700
TZOFFSETTO:-0700
TZNAME:MST
DTSTART:20250101T000000
END:STANDARD
END:VTIMEZONE
BEGIN:VTIMEZONE
TZID:America/New_York
BEGIN:DAYLIGHT
TZOFFSETFROM:-0500
TZOFFSETTO:-0400
TZNAME:EDT
DTSTART:20250309T070000
END:DAYLIGHT
BEGIN:STANDARD
TZOFFSETFROM:-0400
TZOFFSETTO:-0500
TZNAME:EST
DTSTART:20251102T060000
END:STANDARD
BEGIN:DAYLIGHT
TZOFFSETFROM:-0500
TZOFFSETTO:-0400
TZNAME:EDT
DTSTART:20260308T070000
END:DAYLIGHT
BEGIN:STANDARD
TZOFFSETFROM:-0400
TZOFFSETTO:-0500
TZNAME:EST
DTSTART:20261101T060000
END:STANDARD
BEGIN:DAYLIGHT
TZOFFSETFROM:-0500
TZOFFSETTO:-0400
TZNAME:EDT
DTSTART:20270314T070000
END:DAYLIGHT
BEGIN:STANDARD
TZOFFSETFROM:-0400
TZOFFSETTO:-0500
TZNAME:EST
DTSTART:20271107T060000
END:STANDARD
END:VTIMEZONE
BEGIN:VEVENT
DTSTART;TZID=America/Phoenix:20260331T120000
DTEND;TZID=America/Phoenix:20260331T130000
DTSTAMP:20260421T172013
CREATED:20260127T073450Z
LAST-MODIFIED:20260127T073450Z
UID:10000377-1774958400-1774962000@www.cbiz.com
SUMMARY:Weber State University Beta Alpha Psi Presentation
DESCRIPTION:
URL:https://www.cbiz.com/campus-event/weber-state-university-beta-alpha-psi-presentation
END:VEVENT
BEGIN:VEVENT
DTSTART;TZID=America/New_York:20260331T180000
DTEND;TZID=America/New_York:20260331T190000
DTSTAMP:20260421T172013
CREATED:20260311T150033Z
LAST-MODIFIED:20260311T150033Z
UID:10000389-1774980000-1774983600@www.cbiz.com
SUMMARY:University of Massachusetts Amherst UMass Amherst Accounting Society Presentation
DESCRIPTION:
URL:https://www.cbiz.com/campus-event/university-of-massachusetts-amherst-umass-amherst-accounting-society-presentation
END:VEVENT
END:VCALENDAR