BEGIN:VCALENDAR
VERSION:2.0
PRODID:-//CBIZ - ECPv6.15.20//NONSGML v1.0//EN
CALSCALE:GREGORIAN
METHOD:PUBLISH
X-WR-CALNAME:CBIZ
X-ORIGINAL-URL:https://www.cbiz.com
X-WR-CALDESC:Events for CBIZ
REFRESH-INTERVAL;VALUE=DURATION:PT1H
X-Robots-Tag:noindex
X-PUBLISHED-TTL:PT1H
BEGIN:VTIMEZONE
TZID:America/Mexico_City
BEGIN:STANDARD
TZOFFSETFROM:-0600
TZOFFSETTO:-0600
TZNAME:CST
DTSTART:20250101T000000
END:STANDARD
END:VTIMEZONE
BEGIN:VTIMEZONE
TZID:America/Los_Angeles
BEGIN:DAYLIGHT
TZOFFSETFROM:-0800
TZOFFSETTO:-0700
TZNAME:PDT
DTSTART:20250309T100000
END:DAYLIGHT
BEGIN:STANDARD
TZOFFSETFROM:-0700
TZOFFSETTO:-0800
TZNAME:PST
DTSTART:20251102T090000
END:STANDARD
BEGIN:DAYLIGHT
TZOFFSETFROM:-0800
TZOFFSETTO:-0700
TZNAME:PDT
DTSTART:20260308T100000
END:DAYLIGHT
BEGIN:STANDARD
TZOFFSETFROM:-0700
TZOFFSETTO:-0800
TZNAME:PST
DTSTART:20261101T090000
END:STANDARD
BEGIN:DAYLIGHT
TZOFFSETFROM:-0800
TZOFFSETTO:-0700
TZNAME:PDT
DTSTART:20270314T100000
END:DAYLIGHT
BEGIN:STANDARD
TZOFFSETFROM:-0700
TZOFFSETTO:-0800
TZNAME:PST
DTSTART:20271107T090000
END:STANDARD
END:VTIMEZONE
BEGIN:VEVENT
DTSTART;TZID=America/Mexico_City:20260121T130000
DTEND;TZID=America/Mexico_City:20260121T160000
DTSTAMP:20260423T093747
CREATED:20260108T034009Z
LAST-MODIFIED:20260108T034009Z
UID:10000305-1769000400-1769011200@www.cbiz.com
SUMMARY:DePaul University Winter Meet the Firms
DESCRIPTION:
URL:https://www.cbiz.com/campus-event/depaul-university-winter-meet-the-firms
END:VEVENT
BEGIN:VEVENT
DTSTART;TZID=America/Los_Angeles:20260121T180000
DTEND;TZID=America/Los_Angeles:20260121T200000
DTSTAMP:20260423T093747
CREATED:20260108T034007Z
LAST-MODIFIED:20260108T034007Z
UID:10000304-1769018400-1769025600@www.cbiz.com
SUMMARY:"University of California\, Los Angeles" Meet the Firms
DESCRIPTION:
URL:https://www.cbiz.com/campus-event/university-of-california-los-angeles-meet-the-firms-2
END:VEVENT
END:VCALENDAR