BEGIN:VCALENDAR
VERSION:2.0
PRODID:-//CBIZ - ECPv6.15.20//NONSGML v1.0//EN
CALSCALE:GREGORIAN
METHOD:PUBLISH
X-ORIGINAL-URL:https://www.cbiz.com
X-WR-CALDESC:Events for CBIZ
REFRESH-INTERVAL;VALUE=DURATION:PT1H
X-Robots-Tag:noindex
X-PUBLISHED-TTL:PT1H
BEGIN:VTIMEZONE
TZID:America/Chicago
BEGIN:DAYLIGHT
TZOFFSETFROM:-0600
TZOFFSETTO:-0500
TZNAME:CDT
DTSTART:20240310T080000
END:DAYLIGHT
BEGIN:STANDARD
TZOFFSETFROM:-0500
TZOFFSETTO:-0600
TZNAME:CST
DTSTART:20241103T070000
END:STANDARD
BEGIN:DAYLIGHT
TZOFFSETFROM:-0600
TZOFFSETTO:-0500
TZNAME:CDT
DTSTART:20250309T080000
END:DAYLIGHT
BEGIN:STANDARD
TZOFFSETFROM:-0500
TZOFFSETTO:-0600
TZNAME:CST
DTSTART:20251102T070000
END:STANDARD
BEGIN:DAYLIGHT
TZOFFSETFROM:-0600
TZOFFSETTO:-0500
TZNAME:CDT
DTSTART:20260308T080000
END:DAYLIGHT
BEGIN:STANDARD
TZOFFSETFROM:-0500
TZOFFSETTO:-0600
TZNAME:CST
DTSTART:20261101T070000
END:STANDARD
END:VTIMEZONE
BEGIN:VTIMEZONE
TZID:America/New_York
BEGIN:DAYLIGHT
TZOFFSETFROM:-0500
TZOFFSETTO:-0400
TZNAME:EDT
DTSTART:20240310T070000
END:DAYLIGHT
BEGIN:STANDARD
TZOFFSETFROM:-0400
TZOFFSETTO:-0500
TZNAME:EST
DTSTART:20241103T060000
END:STANDARD
BEGIN:DAYLIGHT
TZOFFSETFROM:-0500
TZOFFSETTO:-0400
TZNAME:EDT
DTSTART:20250309T070000
END:DAYLIGHT
BEGIN:STANDARD
TZOFFSETFROM:-0400
TZOFFSETTO:-0500
TZNAME:EST
DTSTART:20251102T060000
END:STANDARD
BEGIN:DAYLIGHT
TZOFFSETFROM:-0500
TZOFFSETTO:-0400
TZNAME:EDT
DTSTART:20260308T070000
END:DAYLIGHT
BEGIN:STANDARD
TZOFFSETFROM:-0400
TZOFFSETTO:-0500
TZNAME:EST
DTSTART:20261101T060000
END:STANDARD
END:VTIMEZONE
BEGIN:VEVENT
DTSTART;TZID=America/Chicago:20251029T080000
DTEND;TZID=America/Chicago:20251029T092000
DTSTAMP:20260425T190630
CREATED:20250829T152547Z
LAST-MODIFIED:20251029T183553Z
UID:10000266-1761724800-1761729600@www.cbiz.com
SUMMARY:Kansas State University Rise Up Scholars | Present a Pro
DESCRIPTION:
URL:https://www.cbiz.com/campus-event/kansas-state-university-rise-up-scholars-present-a-pro
END:VEVENT
BEGIN:VEVENT
DTSTART;TZID=America/New_York:20251029T130000
DTEND;TZID=America/New_York:20251029T140000
DTSTAMP:20260425T190630
CREATED:20250829T152547Z
LAST-MODIFIED:20250829T152547Z
UID:10000265-1761742800-1761746400@www.cbiz.com
SUMMARY:Adelphi University Adelphi Accounting Society Presentation
DESCRIPTION:
URL:https://www.cbiz.com/campus-event/adelphi-university-adelphi-accounting-society-presentation
END:VEVENT
BEGIN:VEVENT
DTSTART;TZID=America/New_York:20251029T130000
DTEND;TZID=America/New_York:20251029T140000
DTSTAMP:20260425T190630
CREATED:20250829T152548Z
LAST-MODIFIED:20250829T152548Z
UID:10000267-1761742800-1761746400@www.cbiz.com
SUMMARY:Southern Connecticut State University Accounting Roundtable
DESCRIPTION:
URL:https://www.cbiz.com/campus-event/southern-connecticut-state-university-accounting-roundtable
END:VEVENT
BEGIN:VEVENT
DTSTART;TZID=America/New_York:20251029T130000
DTEND;TZID=America/New_York:20251029T140000
DTSTAMP:20260425T190630
CREATED:20251002T192602Z
LAST-MODIFIED:20251002T192602Z
UID:10000287-1761742800-1761746400@www.cbiz.com
SUMMARY:Southern Connecticut State University Accounting Roundtable
DESCRIPTION:
URL:https://www.cbiz.com/campus-event/southern-connecticut-state-university-accounting-roundtable-2
END:VEVENT
BEGIN:VEVENT
DTSTART;TZID=America/Chicago:20251029T140000
DTEND;TZID=America/Chicago:20251029T160000
DTSTAMP:20260425T190630
CREATED:20250829T152546Z
LAST-MODIFIED:20251029T183503Z
UID:10000264-1761746400-1761753600@www.cbiz.com
SUMMARY:Maryville University Mark Roman Accounting and Finance Networking Event
DESCRIPTION:
URL:https://www.cbiz.com/campus-event/maryville-university-mark-roman-accounting-and-finance-networking-event
END:VEVENT
END:VCALENDAR