BEGIN:VCALENDAR
VERSION:2.0
PRODID:-//CBIZ - ECPv6.15.20//NONSGML v1.0//EN
CALSCALE:GREGORIAN
METHOD:PUBLISH
X-ORIGINAL-URL:https://www.cbiz.com
X-WR-CALDESC:Events for CBIZ
REFRESH-INTERVAL;VALUE=DURATION:PT1H
X-Robots-Tag:noindex
X-PUBLISHED-TTL:PT1H
BEGIN:VTIMEZONE
TZID:America/New_York
BEGIN:DAYLIGHT
TZOFFSETFROM:-0500
TZOFFSETTO:-0400
TZNAME:EDT
DTSTART:20240310T070000
END:DAYLIGHT
BEGIN:STANDARD
TZOFFSETFROM:-0400
TZOFFSETTO:-0500
TZNAME:EST
DTSTART:20241103T060000
END:STANDARD
BEGIN:DAYLIGHT
TZOFFSETFROM:-0500
TZOFFSETTO:-0400
TZNAME:EDT
DTSTART:20250309T070000
END:DAYLIGHT
BEGIN:STANDARD
TZOFFSETFROM:-0400
TZOFFSETTO:-0500
TZNAME:EST
DTSTART:20251102T060000
END:STANDARD
BEGIN:DAYLIGHT
TZOFFSETFROM:-0500
TZOFFSETTO:-0400
TZNAME:EDT
DTSTART:20260308T070000
END:DAYLIGHT
BEGIN:STANDARD
TZOFFSETFROM:-0400
TZOFFSETTO:-0500
TZNAME:EST
DTSTART:20261101T060000
END:STANDARD
END:VTIMEZONE
BEGIN:VEVENT
DTSTART;TZID=America/New_York:20250929T110000
DTEND;TZID=America/New_York:20250929T150000
DTSTAMP:20260423T062020
CREATED:20250829T152120Z
LAST-MODIFIED:20250829T152120Z
UID:10000217-1759143600-1759158000@www.cbiz.com
SUMMARY:University of Massachusetts Amherst Isenberg Career Day
DESCRIPTION:
URL:https://www.cbiz.com/campus-event/university-of-massachusetts-amherst-isenberg-career-day
END:VEVENT
BEGIN:VEVENT
DTSTART;TZID=America/New_York:20250929T150000
DTEND;TZID=America/New_York:20250929T170000
DTSTAMP:20260423T062020
CREATED:20250829T152118Z
LAST-MODIFIED:20250829T152118Z
UID:10000216-1759158000-1759165200@www.cbiz.com
SUMMARY:University of Wisconsin - La Crosse Accounting Career Fair
DESCRIPTION:
URL:https://www.cbiz.com/campus-event/university-of-wisconsin-la-crosse-accounting-career-fair
END:VEVENT
BEGIN:VEVENT
DTSTART;TZID=America/New_York:20250929T180000
DTEND;TZID=America/New_York:20250929T190000
DTSTAMP:20260423T062020
CREATED:20250829T152121Z
LAST-MODIFIED:20250829T152121Z
UID:10000218-1759168800-1759172400@www.cbiz.com
SUMMARY:Kansas State University Beta Alpha Psi Meeting
DESCRIPTION:
URL:https://www.cbiz.com/campus-event/kansas-state-university-beta-alpha-psi-meeting
END:VEVENT
END:VCALENDAR